BEGIN:VCALENDAR
VERSION:2.0
PRODID:-//Joint Bridges - ECPv6.5.0.1//NONSGML v1.0//EN
CALSCALE:GREGORIAN
METHOD:PUBLISH
X-ORIGINAL-URL:https://jointbridges.com
X-WR-CALDESC:Events for Joint Bridges
REFRESH-INTERVAL;VALUE=DURATION:PT1H
X-Robots-Tag:noindex
X-PUBLISHED-TTL:PT1H
BEGIN:VTIMEZONE
TZID:Europe/Paris
BEGIN:DAYLIGHT
TZOFFSETFROM:+0100
TZOFFSETTO:+0200
TZNAME:CEST
DTSTART:20230326T010000
END:DAYLIGHT
BEGIN:STANDARD
TZOFFSETFROM:+0200
TZOFFSETTO:+0100
TZNAME:CET
DTSTART:20231029T010000
END:STANDARD
BEGIN:DAYLIGHT
TZOFFSETFROM:+0100
TZOFFSETTO:+0200
TZNAME:CEST
DTSTART:20240331T010000
END:DAYLIGHT
BEGIN:STANDARD
TZOFFSETFROM:+0200
TZOFFSETTO:+0100
TZNAME:CET
DTSTART:20241027T010000
END:STANDARD
TZID:Europe/Helsinki
BEGIN:DAYLIGHT
TZOFFSETFROM:+0200
TZOFFSETTO:+0300
TZNAME:EEST
DTSTART:20250330T010000
END:DAYLIGHT
BEGIN:STANDARD
TZOFFSETFROM:+0300
TZOFFSETTO:+0200
TZNAME:EET
DTSTART:20251026T010000
END:STANDARD
END:VTIMEZONE
BEGIN:VEVENT
DTSTART;TZID=Europe/Paris:20231025T063000
DTEND;TZID=Europe/Paris:20231025T210000
DTSTAMP:20260422T221007
CREATED:20250418T165904Z
LAST-MODIFIED:20250421T063046Z
UID:2128-1698215400-1698267600@jointbridges.com
SUMMARY:CEO MeetUp Finance
DESCRIPTION:CEO MeetUp Finance is an exclusive networking event that brings together top executives\, industry leaders\, and financial experts to share insights\, explore opportunities\, and discuss the future of finance.
URL:https://jointbridges.com/event/ceo-meetup-finance/
LOCATION:Spojka Karlin\, Pernerova 697/35\, Prague\, Prague\, 186 00\, Czech Republic
ATTACH;FMTTYPE=image/jpeg:https://jointbridges.com/wp-content/uploads/2025/04/meetuo-finance.jpg
END:VEVENT
BEGIN:VEVENT
DTSTART;TZID=Europe/Paris:20240326T183000
DTEND;TZID=Europe/Paris:20240326T210000
DTSTAMP:20260422T221007
CREATED:20250418T170652Z
LAST-MODIFIED:20250421T062322Z
UID:2131-1711477800-1711486800@jointbridges.com
SUMMARY:CEO MeetUp HR
DESCRIPTION:CEO MeetUp HR is a premier gathering of executive leaders and HR professionals focused on shaping the future of work\, talent management\, and organizational culture through strategic dialogue and collaboration.
URL:https://jointbridges.com/event/ceo-meetup-hr/
LOCATION:Spojka Karlin\, Pernerova 697/35\, Prague\, Prague\, 186 00\, Czech Republic
ATTACH;FMTTYPE=image/jpeg:https://jointbridges.com/wp-content/uploads/2025/04/MeetUp-HR.jpg
END:VEVENT
BEGIN:VEVENT
DTSTART;VALUE=DATE:20240516
DTEND;VALUE=DATE:20240518
DTSTAMP:20260422T221007
CREATED:20250414T171458Z
LAST-MODIFIED:20250415T123749Z
UID:1962-1715817600-1715990399@jointbridges.com
SUMMARY:18th International Caspian Investment Forum
DESCRIPTION:The 18th Caspian Investment Forum brought together global leaders\, investors\, and policymakers to explore key opportunities in Doing Business in Central Europe\, the Middle-East Corridor\, Digital Economics\, and Green Energy. The forum served as a dynamic platform for dialogue\, partnerships\, and innovation across emerging markets.
URL:https://jointbridges.com/event/18th-international-caspian-investment-forum/
LOCATION:Prague Congress Centre\, Kongresové centrum Praha\, a.s. 5. května 1640/65\, Nusle 140 21 Praha 4\, ČR\, Prague\, 14021\, Czech Republic
ATTACH;FMTTYPE=image/jpeg:https://jointbridges.com/wp-content/uploads/2025/04/poster.jpg
END:VEVENT
BEGIN:VEVENT
DTSTART;TZID=Europe/Helsinki:20250723T093000
DTEND;TZID=Europe/Helsinki:20250723T113000
DTSTAMP:20260422T221007
CREATED:20250716T074728Z
LAST-MODIFIED:20250716T103436Z
UID:2300-1753263000-1753270200@jointbridges.com
SUMMARY:CEO Breakfast
DESCRIPTION:The CEO Breakfast is a curated morning event that brings together influential leaders for insightful discussions\, networking\, and idea sharing over an intimate breakfast setting.
URL:https://jointbridges.com/event/ceo-breakfast-3/
LOCATION:Cukrárna Myšák – Second floor\, 710/31\, Vodičkova\, Nové Město\, 110 00 Praha\, Czechia\, Prague\, 11000\, Czech Republic
ATTACH;FMTTYPE=image/png:https://jointbridges.com/wp-content/uploads/2025/07/poster.png
END:VEVENT
END:VCALENDAR