BEGIN:VCALENDAR
VERSION:2.0
PRODID:-//Joint Bridges - ECPv6.5.0.1//NONSGML v1.0//EN
CALSCALE:GREGORIAN
METHOD:PUBLISH
X-WR-CALNAME:Joint Bridges
X-ORIGINAL-URL:https://jointbridges.com
X-WR-CALDESC:Events for Joint Bridges
REFRESH-INTERVAL;VALUE=DURATION:PT1H
X-Robots-Tag:noindex
X-PUBLISHED-TTL:PT1H
BEGIN:VTIMEZONE
TZID:Europe/Paris
BEGIN:DAYLIGHT
TZOFFSETFROM:+0100
TZOFFSETTO:+0200
TZNAME:CEST
DTSTART:20240331T010000
END:DAYLIGHT
BEGIN:STANDARD
TZOFFSETFROM:+0200
TZOFFSETTO:+0100
TZNAME:CET
DTSTART:20241027T010000
END:STANDARD
END:VTIMEZONE
BEGIN:VEVENT
DTSTART;TZID=Europe/Paris:20240326T183000
DTEND;TZID=Europe/Paris:20240326T210000
DTSTAMP:20260421T211909
CREATED:20250418T170652Z
LAST-MODIFIED:20250421T062322Z
UID:2131-1711477800-1711486800@jointbridges.com
SUMMARY:CEO MeetUp HR
DESCRIPTION:CEO MeetUp HR is a premier gathering of executive leaders and HR professionals focused on shaping the future of work\, talent management\, and organizational culture through strategic dialogue and collaboration.
URL:https://jointbridges.com/event/ceo-meetup-hr/
LOCATION:Spojka Karlin\, Pernerova 697/35\, Prague\, Prague\, 186 00\, Czech Republic
ATTACH;FMTTYPE=image/jpeg:https://jointbridges.com/wp-content/uploads/2025/04/MeetUp-HR.jpg
END:VEVENT
END:VCALENDAR