BEGIN:VCALENDAR
VERSION:2.0
PRODID:-//Joint Bridges - ECPv6.5.0.1//NONSGML v1.0//EN
CALSCALE:GREGORIAN
METHOD:PUBLISH
X-WR-CALNAME:Joint Bridges
X-ORIGINAL-URL:https://jointbridges.com
X-WR-CALDESC:Events for Joint Bridges
REFRESH-INTERVAL;VALUE=DURATION:PT1H
X-Robots-Tag:noindex
X-PUBLISHED-TTL:PT1H
BEGIN:VTIMEZONE
TZID:Europe/Paris
BEGIN:DAYLIGHT
TZOFFSETFROM:+0100
TZOFFSETTO:+0200
TZNAME:CEST
DTSTART:20230326T010000
END:DAYLIGHT
BEGIN:STANDARD
TZOFFSETFROM:+0200
TZOFFSETTO:+0100
TZNAME:CET
DTSTART:20231029T010000
END:STANDARD
END:VTIMEZONE
BEGIN:VEVENT
DTSTART;TZID=Europe/Paris:20230526T120000
DTEND;TZID=Europe/Paris:20230526T143000
DTSTAMP:20260422T105912
CREATED:20250414T112933Z
LAST-MODIFIED:20250421T063215Z
UID:1952-1685102400-1685111400@jointbridges.com
SUMMARY:CEO Lunch
DESCRIPTION:CEO Lunch is an exclusive\, invitation-only gathering of top executives designed to foster high-level networking\, meaningful conversations\, and strategic partnerships over a curated dining experience.
URL:https://jointbridges.com/event/ceo-lunch/
ATTACH;FMTTYPE=image/jpeg:https://jointbridges.com/wp-content/uploads/2025/04/1619A608-D3BB-4DAF-8111-9FCE6E897ED5-scaled.jpg
END:VEVENT
END:VCALENDAR